BEGIN:VCALENDAR
VERSION:2.0
PRODID:-//Tukios.com/
BEGIN:VEVENT
UID:d95a64c7-d2f4-4533-9752-0d97856b37c9@www.steedtodd.com
DTSTAMP:20260421T012444Z
DTSTART:20260423T203000Z
DTEND:20260423T210000Z
SUMMARY:Interment
DESCRIPTION:
URL:https://www.steedtodd.com/obituaries/jesse-cabrera
LOCATION:Lawn Haven 1600 Llano Estacado  Clovis NM 88101
GEO:34.4338379;-103.1848787
END:VEVENT
END:VCALENDAR