BEGIN:VCALENDAR
VERSION:2.0
PRODID:-//Tukios.com/
BEGIN:VEVENT
UID:128ce267-533a-4da5-9ffb-f1f477b04299@www.steedtodd.com
DTSTAMP:20260421T012715Z
DTSTART:20260423T193000Z
DTEND:20260423T203000Z
SUMMARY:Funeral Service
DESCRIPTION:
URL:https://www.steedtodd.com/obituaries/jesse-cabrera
LOCATION:Steed Todd Funeral Home Chapel 800 E Manana Blvd  Clovis NM 
	88101
GEO:34.4269825;-103.195946
END:VEVENT
END:VCALENDAR