BEGIN:VCALENDAR
VERSION:2.0
PRODID:-//Tukios.com/
BEGIN:VEVENT
UID:75d0b480-3f50-43bb-b21d-d460ebd767e5@www.steedtodd.com
DTSTAMP:20260421T012123Z
DTSTART:20260423T190000Z
DTEND:20260423T193000Z
SUMMARY:Rosary
DESCRIPTION:
URL:https://www.steedtodd.com/obituaries/jesse-cabrera
LOCATION:Steed Todd Funeral Home Chapel 800 E Manana Blvd  Clovis NM 
	88101
GEO:34.4269825;-103.195946
END:VEVENT
END:VCALENDAR